BEGIN:VCALENDAR
VERSION:2.0
PRODID:-//Soul Sugar - ECPv6.15.20//NONSGML v1.0//EN
CALSCALE:GREGORIAN
METHOD:PUBLISH
X-ORIGINAL-URL:https://soulsugar.it
X-WR-CALDESC:Eventi per Soul Sugar
REFRESH-INTERVAL;VALUE=DURATION:PT1H
X-Robots-Tag:noindex
X-PUBLISHED-TTL:PT1H
BEGIN:VTIMEZONE
TZID:UTC
BEGIN:STANDARD
TZOFFSETFROM:+0000
TZOFFSETTO:+0000
TZNAME:UTC
DTSTART:20150101T000000
END:STANDARD
END:VTIMEZONE
BEGIN:VEVENT
DTSTART;VALUE=DATE:20170903
DTEND;VALUE=DATE:20170904
DTSTAMP:20260423T101358
CREATED:20171227T093231Z
LAST-MODIFIED:20171227T093231Z
UID:492-1504396800-1504483199@soulsugar.it
SUMMARY:Sosia in tour 2017
DESCRIPTION:
URL:https://soulsugar.it/event/sosia-in-tour-2017
LOCATION:parco di piazza libertà cornaredo\, piazza libertà\, Cornaredo\, MI\, 20010\, Italia
ORGANIZER;CN="soul sugar tributo a zucchero":MAILTO:info@soulsugar.it
END:VEVENT
BEGIN:VEVENT
DTSTART;VALUE=DATE:20170822
DTEND;VALUE=DATE:20170823
DTSTAMP:20260423T101358
CREATED:20171227T092813Z
LAST-MODIFIED:20171227T092813Z
UID:488-1503360000-1503446399@soulsugar.it
SUMMARY:Tributo a Zucchero at Snack Bar Burgio AG
DESCRIPTION:
URL:https://soulsugar.it/event/tributo-a-zucchero-at-snack-bar-burgio-ag
LOCATION:snack bar burgio\, BURGIO\, AG\, 92010\, Italia
ORGANIZER;CN="soul sugar tributo a zucchero":MAILTO:info@soulsugar.it
END:VEVENT
BEGIN:VEVENT
DTSTART;VALUE=DATE:20170805
DTEND;VALUE=DATE:20170806
DTSTAMP:20260423T101358
CREATED:20171227T092127Z
LAST-MODIFIED:20171227T092127Z
UID:486-1501891200-1501977599@soulsugar.it
SUMMARY:Tributo a Zucchero at Sol & Verde
DESCRIPTION:
URL:https://soulsugar.it/event/tributo-a-zucchero-at-sol-verde
LOCATION:MI
ORGANIZER;CN="soul sugar tributo a zucchero":MAILTO:info@soulsugar.it
END:VEVENT
BEGIN:VEVENT
DTSTART;TZID=UTC:20170701T220000
DTEND;TZID=UTC:20170701T235900
DTSTAMP:20260423T101358
CREATED:20170629T095553Z
LAST-MODIFIED:20170629T131006Z
UID:467-1498946400-1498953540@soulsugar.it
SUMMARY:Tributo a zucchero Aria di Festa LIMBIATE Piazza Aldo Moro
DESCRIPTION:▇ ▇ ▇Sabato 1 Luglio ▇ ▇ ▇ \nSoul Sugar TRIBUTO A ZUCCHERO AT Aria di Festa LIMBIATE Piazza Aldo Moro\n♪ ♪ LIVE MUSIC I migliori successi di ZUCCHERO  \nUn grande spettacolo per un Grande Artista Zucchero Adelmo Fornaciari \nSoul Sugar Tributo al grande Zucchero\, ha il compito di divulgare il Rhythm and blues in ITALIA\, con i più grandi successi dal 1986 ad oggi del mitico Adelmo Sugar Fornaciari. \nSenza niente togliere alle grandi tribute Band di Zucchero\, presenti nel panorama Italiano\, il progetto tenta di distaccarsi dai parametri ordinari inserendo all’interno dello spettacolo un po’ di sarcasmo e allegria. \nCoinvolgendo il pubblico La Soul Sugar Band certamente non tralascerà il lato musicale\, emulando le sensazioni e l’emozioni trasmesse dai grandiosi LIVE di Zucchero. \nCosa dire di Più ………………………………. Che noi crediamo nel Blues e il Blues non morirà MAI !!! \n#zucchero #tributo #musicadalvivo #coverband #liveshow #videoshow #tributoazucchero #zucchero #lodi #sugar #soulsugar #theloftetc #blackcattour #zuccherofornaciari #officinadellabirra
URL:https://soulsugar.it/event/tributo-a-zucchero-aria-di-festa-limbiate-piazza-aldo-moro
LOCATION:Officina della Birra\, Viale Matteotti\, 11\, bresso\, 20091\, Italia
ORGANIZER;CN="soul sugar tributo a zucchero":MAILTO:info@soulsugar.it
END:VEVENT
BEGIN:VEVENT
DTSTART;TZID=UTC:20170506T220000
DTEND;TZID=UTC:20170506T220000
DTSTAMP:20260423T101358
CREATED:20170413T090111Z
LAST-MODIFIED:20170413T090209Z
UID:453-1494108000-1494108000@soulsugar.it
SUMMARY:Tributo a Zucchero at Cafè roma Mozzanica
DESCRIPTION:▇ ▇ ▇Sabato 6 Maggio▇ ▇ ▇ \nSoul Sugar TRIBUTO A ZUCCHERO AT Cafè Roma\n♪ ♪ LIVE MUSIC I migliori successi di ZUCCHERO  \nUn grande spettacolo per un Grande Artista Zucchero Adelmo Fornaciari \nSoul Sugar Tributo al grande Zucchero\, ha il compito di divulgare il Rhythm and blues in ITALIA\, con i più grandi successi dal 1986 ad oggi del mitico Adelmo Sugar Fornaciari. \nSenza niente togliere alle grandi tribute Band di Zucchero\, presenti nel panorama Italiano\, il progetto tenta di distaccarsi dai parametri ordinari inserendo all’interno dello spettacolo un po’ di sarcasmo e allegria. \nCoinvolgendo il pubblico La Soul Sugar Band certamente non tralascerà il lato musicale\, emulando le sensazioni e l’emozioni trasmesse dai grandiosi LIVE di Zucchero. \nCosa dire di Più ………………………………. Che noi crediamo nel Blues e il Blues non morirà MAI !!! \n#zucchero #tributo #musicadalvivo #coverband #liveshow #videoshow #tributoazucchero #zucchero #lodi #sugar #soulsugar #theloftetc #blackcattour #zuccherofornaciari
URL:https://soulsugar.it/event/tributo-a-zucchero-at-cafe-roma-mozzanica
LOCATION:cafè Roma Mozzanica\, Via Padana Superiore 11\, Mozzanica \, Italia
ORGANIZER;CN="soul sugar tributo a zucchero":MAILTO:info@soulsugar.it
END:VEVENT
BEGIN:VEVENT
DTSTART;TZID=UTC:20170421T220000
DTEND;TZID=UTC:20170421T220000
DTSTAMP:20260423T101358
CREATED:20170413T084610Z
LAST-MODIFIED:20170413T084610Z
UID:450-1492812000-1492812000@soulsugar.it
SUMMARY:Tributo a Zucchero Soul Sugar at the loft Etc
DESCRIPTION:▇ ▇ ▇ Venerdì 21 Aprile ▇ ▇ ▇ \nSoul Sugar TRIBUTO A ZUCCHERO AT The Loft ETC\n♪ ♪ LIVE MUSIC I migliori successi di ZUCCHERO  \nUn grande spettacolo per un Grande Artista Zucchero Adelmo Fornaciari \nSoul Sugar Tributo al grande Zucchero\, ha il compito di divulgare il Rhythm and blues in ITALIA\, con i più grandi successi dal 1986 ad oggi del mitico Adelmo Sugar Fornaciari. \nSenza niente togliere alle grandi tribute Band di Zucchero\, presenti nel panorama Italiano\, il progetto tenta di distaccarsi dai parametri ordinari inserendo all’interno dello spettacolo un po’ di sarcasmo e allegria. \nCoinvolgendo il pubblico La Soul Sugar Band certamente non tralascerà il lato musicale\, emulando le sensazioni e l’emozioni trasmesse dai grandiosi LIVE di Zucchero. \nCosa dire di Più ………………………………. Che noi crediamo nel Blues e il Blues non morirà MAI !!! \n#zucchero #tributo #musicadalvivo #coverband #liveshow #videoshow #tributoazucchero #zucchero #lodi #sugar #soulsugar #theloftetc #blackcattour #zuccherofornaciari
URL:https://soulsugar.it/event/tributo-a-zucchero-soul-sugar-at-the-loft-etc
LOCATION:the loft etc\, via Selvagreca\, Lodi\, Italia
ORGANIZER;CN="soul sugar tributo a zucchero":MAILTO:info@soulsugar.it
END:VEVENT
BEGIN:VEVENT
DTSTART;TZID=UTC:20170408T220000
DTEND;TZID=UTC:20170408T220000
DTSTAMP:20260423T101358
CREATED:20170214T105855Z
LAST-MODIFIED:20170214T105956Z
UID:423-1491688800-1491688800@soulsugar.it
SUMMARY:Tributo a Zucchero alla Megaditta di Basiano
DESCRIPTION:La MegaDitta & Soul Sugar TRIBUTO A ZUCCHERO\n♪ ♪ LIVE MUSIC I migliori successi di ZUCCHERO\n▇ ▇ ▇ INGRESSO GRATUITO ▇ ▇ ▇ \nUn grande spettacolo per un Grande Artista Zucchero Adelmo Fornaciari \nSoul Sugar Tributo al grande Zucchero\, ha il compito di divulgare il Rhythm and blues in ITALIA\, con i più grandi successi dal 1986 ad oggi del mitico Adelmo Sugar Fornaciari. \nSenza niente togliere alle grandi tribute Band di Zucchero\, presenti nel panorama Italiano\, il progetto tenta di distaccarsi dai parametri ordinari inserendo all’interno dello spettacolo un po’ di sarcasmo e allegria.\n\nCoinvolgendo il pubblico La Soul Sugar Band certamente non tralascerà il lato musicale\, emulando le sensazioni e l’emozioni trasmesse dai grandiosi LIVE di Zucchero. \nCosa dire di Più ………………………………. Che noi crediamo nel Blues e il Blues non morirà MAI !!! \n#zucchero #tributo #musicadalvivo #coverband #liveshow
URL:https://soulsugar.it/event/tributo-a-zucchero-alla-megaditta-di-basiano
LOCATION:la megaditta basiano\, Via San Basilio\,7\, Basiano \, mi\, 20060 \, Italia
END:VEVENT
BEGIN:VEVENT
DTSTART;TZID=UTC:20170204T220000
DTEND;TZID=UTC:20170204T220000
DTSTAMP:20260423T101358
CREATED:20170113T132328Z
LAST-MODIFIED:20170113T133158Z
UID:337-1486245600-1486245600@soulsugar.it
SUMMARY:La MegaDitta Basiano
DESCRIPTION:Un grande spettacolo per un Grande Artista Zucchero Adelmo Fornaciari \nSoul Sugar Tributo al grande Zucchero\, ha il compito di divulgare  il Rhythm and blues in ITALIA\,  con i più grandi successi dal 1986 ad oggi del mitico Adelmo Sugar Fornaciari. \nSenza niente togliere alle grandi tribute Band di Zucchero\, presenti nel panorama Italiano\, il progetto tenta di distaccarsi dai parametri ordinari inserendo all’interno dello spettacolo un po’ di sarcasmo e allegria. \nCoinvolgendo  il pubblico La Soul Sugar Band certamente non tralascerà il lato musicale\,  emulando   le sensazioni e l’emozioni trasmesse dai  grandiosi LIVE di Zucchero. \nCosa dire di Più  ………………………………. Che noi crediamo nel Blues e il Blues non morirà MAI !!!
URL:https://soulsugar.it/event/la-megaditta-basiano
LOCATION:la megaditta basiano\, Via San Basilio\,7\, Basiano \, mi\, 20060 \, Italia
ORGANIZER;CN="soul sugar tributo a zucchero":MAILTO:info@soulsugar.it
END:VEVENT
BEGIN:VEVENT
DTSTART;TZID=UTC:20161210T220000
DTEND;TZID=UTC:20161210T220000
DTSTAMP:20260423T101358
CREATED:20161010T140221Z
LAST-MODIFIED:20161102T145037Z
UID:277-1481407200-1481407200@soulsugar.it
SUMMARY:Egò lounge bar and restaurant
DESCRIPTION:Soul Sugar Tributo al grande Zucchero\, ha il compito di divulgare  il Rhythm and blues in ITALIA\,  con i più grandi successi dal 1986 ad oggi del mitico Adelmo Sugar Fornaciari. \nSenza niente togliere alle grandi tribute Band di Zucchero\, presenti nel panorama Italiano\, il progetto tenta di distaccarsi dai parametri ordinari inserendo all’interno dello spettacolo un po’ di sarcasmo e allegria. \nCoinvolgendo  il pubblico La Soul Sugar Band certamente non tralascerà il lato musicale\,  emulando   le sensazioni e l’emozioni trasmesse dai  grandiosi LIVE di Zucchero. \nCosa dire di Più  ………………………………. Che noi crediamo nel Blues e il Blues non morirà MAI !!!
URL:https://soulsugar.it/event/ego-lounge-bar-and-restaurant
LOCATION:Egò lounge bar and restaurant\, via 1° maggio 5\, San Zenone al Lambro \, 20070\, Italia
END:VEVENT
BEGIN:VEVENT
DTSTART;VALUE=DATE:20161008
DTEND;VALUE=DATE:20161009
DTSTAMP:20260423T101358
CREATED:20160911T193257Z
LAST-MODIFIED:20160911T194126Z
UID:262-1475884800-1475971199@soulsugar.it
SUMMARY:Bevalu
DESCRIPTION:
URL:https://soulsugar.it/event/bevalu
LOCATION:Bevalu\, Lavagna LO \, 26833\, Italia
END:VEVENT
BEGIN:VEVENT
DTSTART;TZID=UTC:20160306T080000
DTEND;TZID=UTC:20160306T170000
DTSTAMP:20260423T101358
CREATED:20160306T150607Z
LAST-MODIFIED:20160306T150607Z
UID:133-1457251200-1457283600@soulsugar.it
SUMMARY:Coming Soon
DESCRIPTION:
URL:https://soulsugar.it/event/coming-soon
LOCATION:MI
END:VEVENT
END:VCALENDAR